BEGIN:VCALENDAR
VERSION:2.0
PRODID:-//Golden Retriever Club of Illinois - ECPv6.15.20//NONSGML v1.0//EN
CALSCALE:GREGORIAN
METHOD:PUBLISH
X-ORIGINAL-URL:https://grcillinois.org
X-WR-CALDESC:Events for Golden Retriever Club of Illinois
REFRESH-INTERVAL;VALUE=DURATION:PT1H
X-Robots-Tag:noindex
X-PUBLISHED-TTL:PT1H
BEGIN:VTIMEZONE
TZID:America/Chicago
BEGIN:DAYLIGHT
TZOFFSETFROM:-0600
TZOFFSETTO:-0500
TZNAME:CDT
DTSTART:20230312T080000
END:DAYLIGHT
BEGIN:STANDARD
TZOFFSETFROM:-0500
TZOFFSETTO:-0600
TZNAME:CST
DTSTART:20231105T070000
END:STANDARD
BEGIN:DAYLIGHT
TZOFFSETFROM:-0600
TZOFFSETTO:-0500
TZNAME:CDT
DTSTART:20240310T080000
END:DAYLIGHT
BEGIN:STANDARD
TZOFFSETFROM:-0500
TZOFFSETTO:-0600
TZNAME:CST
DTSTART:20241103T070000
END:STANDARD
BEGIN:DAYLIGHT
TZOFFSETFROM:-0600
TZOFFSETTO:-0500
TZNAME:CDT
DTSTART:20250309T080000
END:DAYLIGHT
BEGIN:STANDARD
TZOFFSETFROM:-0500
TZOFFSETTO:-0600
TZNAME:CST
DTSTART:20251102T070000
END:STANDARD
END:VTIMEZONE
BEGIN:VEVENT
DTSTART;TZID=America/Chicago:20241122T080000
DTEND;TZID=America/Chicago:20241124T170000
DTSTAMP:20260423T031313
CREATED:20240522T231312Z
LAST-MODIFIED:20241115T042221Z
UID:1956-1732262400-1732467600@grcillinois.org
SUMMARY:2024 November Conformation Specialties
DESCRIPTION:  \n  \nSuperintendant: MB-F \nFriday Concurrent Specialty Judge: Ms. Nancy Talbott \nFriday Sweepstakes Judge: Mr. Erik Strickland \nSaturday Designated Specialty Judge: TBD \nSunday Designated Specialty Judge: Mrs. Donna Ernst \n  \n 
URL:https://grcillinois.org/event/2024-november-conformation-specialties/
LOCATION:Renaissance Schaumburg Convention Center\, 1551 Thoreau Dr\, Schaumburg\, IL\, 60173
END:VEVENT
END:VCALENDAR