BEGIN:VCALENDAR
VERSION:2.0
PRODID:-//Golden Retriever Club of Illinois - ECPv6.15.20//NONSGML v1.0//EN
CALSCALE:GREGORIAN
METHOD:PUBLISH
X-WR-CALNAME:Golden Retriever Club of Illinois
X-ORIGINAL-URL:https://grcillinois.org
X-WR-CALDESC:Events for Golden Retriever Club of Illinois
REFRESH-INTERVAL;VALUE=DURATION:PT1H
X-Robots-Tag:noindex
X-PUBLISHED-TTL:PT1H
BEGIN:VTIMEZONE
TZID:America/Chicago
BEGIN:DAYLIGHT
TZOFFSETFROM:-0600
TZOFFSETTO:-0500
TZNAME:CDT
DTSTART:20230312T080000
END:DAYLIGHT
BEGIN:STANDARD
TZOFFSETFROM:-0500
TZOFFSETTO:-0600
TZNAME:CST
DTSTART:20231105T070000
END:STANDARD
BEGIN:DAYLIGHT
TZOFFSETFROM:-0600
TZOFFSETTO:-0500
TZNAME:CDT
DTSTART:20240310T080000
END:DAYLIGHT
BEGIN:STANDARD
TZOFFSETFROM:-0500
TZOFFSETTO:-0600
TZNAME:CST
DTSTART:20241103T070000
END:STANDARD
BEGIN:DAYLIGHT
TZOFFSETFROM:-0600
TZOFFSETTO:-0500
TZNAME:CDT
DTSTART:20250309T080000
END:DAYLIGHT
BEGIN:STANDARD
TZOFFSETFROM:-0500
TZOFFSETTO:-0600
TZNAME:CST
DTSTART:20251102T070000
END:STANDARD
END:VTIMEZONE
BEGIN:VEVENT
DTSTART;TZID=America/Chicago:20240907T090000
DTEND;TZID=America/Chicago:20240907T170000
DTSTAMP:20260423T055246
CREATED:20240817T001903Z
LAST-MODIFIED:20240817T001952Z
UID:2010-1725699600-1725728400@grcillinois.org
SUMMARY:GRCI Field Training Day
DESCRIPTION:Hello GRCI members!\n\n\nOur training day at Bong is scheduled for September 7th\, starting at 9am. We will be meeting at the Bowl\, and will be doing land work in the bowl or the field across from the bowl\,weather and concept dependent\, and a set up on water in the gravel pond. At this time the grounds are in great shape with nice cover and lovely water so I hope you all come!\n\n\nPlease respond to the following and return to Liza Simon Roper at your earliest convenience so we can continue planning!\n\n\n\nName of Dog:\nAge/level that you are currently training at (its ok if you are a beginner!)\nWhat would you like to work on at the training day? Just a general idea is fine\, ie retrieves\, blind work\, obedience\, line manners etc. If you are not sure\, just say that\nWhat other field training have you done or been exposed to?\nAre you planning to stay for the day?\nWould you be able to bring a dish to pass for the picnic?\nIf  you have any concerns\, limits\, please let me know!\n\nthank you all\, look forward to seeing you in September!\n\nLiza
URL:https://grcillinois.org/event/grci-field-training-day/
LOCATION:Bong Recreational Area\, Hwy 142 & 75\, Kansasville\, WI
END:VEVENT
END:VCALENDAR