BEGIN:VCALENDAR
VERSION:2.0
PRODID:-//Golden Retriever Club of Illinois - ECPv6.15.20//NONSGML v1.0//EN
CALSCALE:GREGORIAN
METHOD:PUBLISH
X-ORIGINAL-URL:https://grcillinois.org
X-WR-CALDESC:Events for Golden Retriever Club of Illinois
REFRESH-INTERVAL;VALUE=DURATION:PT1H
X-Robots-Tag:noindex
X-PUBLISHED-TTL:PT1H
BEGIN:VTIMEZONE
TZID:America/Chicago
BEGIN:DAYLIGHT
TZOFFSETFROM:-0600
TZOFFSETTO:-0500
TZNAME:CDT
DTSTART:20220313T080000
END:DAYLIGHT
BEGIN:STANDARD
TZOFFSETFROM:-0500
TZOFFSETTO:-0600
TZNAME:CST
DTSTART:20221106T070000
END:STANDARD
BEGIN:DAYLIGHT
TZOFFSETFROM:-0600
TZOFFSETTO:-0500
TZNAME:CDT
DTSTART:20230312T080000
END:DAYLIGHT
BEGIN:STANDARD
TZOFFSETFROM:-0500
TZOFFSETTO:-0600
TZNAME:CST
DTSTART:20231105T070000
END:STANDARD
BEGIN:DAYLIGHT
TZOFFSETFROM:-0600
TZOFFSETTO:-0500
TZNAME:CDT
DTSTART:20240310T080000
END:DAYLIGHT
BEGIN:STANDARD
TZOFFSETFROM:-0500
TZOFFSETTO:-0600
TZNAME:CST
DTSTART:20241103T070000
END:STANDARD
END:VTIMEZONE
BEGIN:VEVENT
DTSTART;TZID=America/Chicago:20230610T100000
DTEND;TZID=America/Chicago:20230610T130000
DTSTAMP:20260424T041236
CREATED:20230524T041148Z
LAST-MODIFIED:20230605T015653Z
UID:1767-1686391200-1686402000@grcillinois.org
SUMMARY:June 2023 General Membership Meeting
DESCRIPTION:June’s general membership meeting will be held on SATURDAY JUNE 10th at Foster’s Training\, in Antioch IL. \nThis meeting will include and intro to Field presentation (IN PERSON). The meeting will be conducted via zoom.
URL:https://grcillinois.org/event/june-2023-general-membership-meeting/
LOCATION:Foster’s Training Center\, 1080 W White Rd\, Antioch\, 60002\, United States
END:VEVENT
BEGIN:VEVENT
DTSTART;TZID=America/Chicago:20230617T080000
DTEND;TZID=America/Chicago:20230617T170000
DTSTAMP:20260424T041236
CREATED:20230422T031956Z
LAST-MODIFIED:20230422T192120Z
UID:1709-1686988800-1687021200@grcillinois.org
SUMMARY:Obedience & Rally Trial 6.17.23
DESCRIPTION:GRCI Obedience & Rally Trial \nLocation: Spring Grove\, IL (WAG) \nDate: Saturday\, June 17th \n2 obedience & 2 rally trials \n2023 GRCI-NSDTC Premium 2 per page Revised 3-27-2023 \n*Please note\, when printing premium choose double sided printing on printer settings\, followed by “short edge” for 3pg printing in correct order. \nVolunteer Sign Up: \nhttps://www.wejoinin.com/sheets/loymi
URL:https://grcillinois.org/event/obedience-rally-trial-6-17-23/
LOCATION:WAG\, 2807 US-12\,\, Spring Grove\, IL\, 60081
ORGANIZER;CN="Murray Mitchneck":MAILTO:mmitchneck@aol.com
END:VEVENT
BEGIN:VEVENT
DTSTART;TZID=America/Chicago:20230623T080000
DTEND;TZID=America/Chicago:20230625T160000
DTSTAMP:20260424T041236
CREATED:20230422T193857Z
LAST-MODIFIED:20230422T193857Z
UID:1716-1687507200-1687708800@grcillinois.org
SUMMARY:GRCI 4th Annual Sporting Dog Agility Classic
DESCRIPTION:Join us this summer for GRCI’s 4th annual Sporting Dog Agility Classic in conjunction with Charge Against Cancer (CAC).  \nJune  23-25\, 2023\, Entries open May 1\, 2023 (5/1/23) \n  \n  \n“Proceeds from the GRCI Sporting Dog Agility Classic will be donated to Charge Against Cancer\, a canine cancer research fund at the University of WI School of Veterinary Medicine.” \n  \nPremium link: https://www.agilgold.com/downloads/GRCI%20Premium%206_23.pdf (and found at bottom of page) \n 
URL:https://grcillinois.org/event/grci-4th-annual-sporting-dog-agility-classic/
LOCATION:Canine Sports Zone\, 3036 Laura Lane\, Middleton\, WI\, 53562\, United States
ATTACH;FMTTYPE=image/jpeg:https://grcillinois.org/wp-content/uploads/2023/04/324724270_1773259409714054_6409484629449543919_n.jpg
ORGANIZER;CN="Kim Mroczenski":MAILTO:kim.mroczenski@bairdwarner.com
END:VEVENT
END:VCALENDAR