BEGIN:VCALENDAR
VERSION:2.0
PRODID:-//Golden Retriever Club of Illinois - ECPv6.15.20//NONSGML v1.0//EN
CALSCALE:GREGORIAN
METHOD:PUBLISH
X-WR-CALNAME:Golden Retriever Club of Illinois
X-ORIGINAL-URL:https://grcillinois.org
X-WR-CALDESC:Events for Golden Retriever Club of Illinois
REFRESH-INTERVAL;VALUE=DURATION:PT1H
X-Robots-Tag:noindex
X-PUBLISHED-TTL:PT1H
BEGIN:VTIMEZONE
TZID:America/Chicago
BEGIN:DAYLIGHT
TZOFFSETFROM:-0600
TZOFFSETTO:-0500
TZNAME:CDT
DTSTART:20180311T080000
END:DAYLIGHT
BEGIN:STANDARD
TZOFFSETFROM:-0500
TZOFFSETTO:-0600
TZNAME:CST
DTSTART:20181104T070000
END:STANDARD
BEGIN:DAYLIGHT
TZOFFSETFROM:-0600
TZOFFSETTO:-0500
TZNAME:CDT
DTSTART:20190310T080000
END:DAYLIGHT
BEGIN:STANDARD
TZOFFSETFROM:-0500
TZOFFSETTO:-0600
TZNAME:CST
DTSTART:20191103T070000
END:STANDARD
BEGIN:DAYLIGHT
TZOFFSETFROM:-0600
TZOFFSETTO:-0500
TZNAME:CDT
DTSTART:20200308T080000
END:DAYLIGHT
BEGIN:STANDARD
TZOFFSETFROM:-0500
TZOFFSETTO:-0600
TZNAME:CST
DTSTART:20201101T070000
END:STANDARD
BEGIN:DAYLIGHT
TZOFFSETFROM:-0600
TZOFFSETTO:-0500
TZNAME:CDT
DTSTART:20210314T080000
END:DAYLIGHT
BEGIN:STANDARD
TZOFFSETFROM:-0500
TZOFFSETTO:-0600
TZNAME:CST
DTSTART:20211107T070000
END:STANDARD
BEGIN:DAYLIGHT
TZOFFSETFROM:-0600
TZOFFSETTO:-0500
TZNAME:CDT
DTSTART:20220313T080000
END:DAYLIGHT
BEGIN:STANDARD
TZOFFSETFROM:-0500
TZOFFSETTO:-0600
TZNAME:CST
DTSTART:20221106T070000
END:STANDARD
BEGIN:DAYLIGHT
TZOFFSETFROM:-0600
TZOFFSETTO:-0500
TZNAME:CDT
DTSTART:20230312T080000
END:DAYLIGHT
BEGIN:STANDARD
TZOFFSETFROM:-0500
TZOFFSETTO:-0600
TZNAME:CST
DTSTART:20231105T070000
END:STANDARD
BEGIN:DAYLIGHT
TZOFFSETFROM:-0600
TZOFFSETTO:-0500
TZNAME:CDT
DTSTART:20240310T080000
END:DAYLIGHT
BEGIN:STANDARD
TZOFFSETFROM:-0500
TZOFFSETTO:-0600
TZNAME:CST
DTSTART:20241103T070000
END:STANDARD
END:VTIMEZONE
BEGIN:VEVENT
DTSTART;TZID=America/Chicago:20230623T080000
DTEND;TZID=America/Chicago:20230625T160000
DTSTAMP:20260420T190728
CREATED:20230422T193857Z
LAST-MODIFIED:20230422T193857Z
UID:1716-1687507200-1687708800@grcillinois.org
SUMMARY:GRCI 4th Annual Sporting Dog Agility Classic
DESCRIPTION:Join us this summer for GRCI’s 4th annual Sporting Dog Agility Classic in conjunction with Charge Against Cancer (CAC).  \nJune  23-25\, 2023\, Entries open May 1\, 2023 (5/1/23) \n  \n  \n“Proceeds from the GRCI Sporting Dog Agility Classic will be donated to Charge Against Cancer\, a canine cancer research fund at the University of WI School of Veterinary Medicine.” \n  \nPremium link: https://www.agilgold.com/downloads/GRCI%20Premium%206_23.pdf (and found at bottom of page) \n 
URL:https://grcillinois.org/event/grci-4th-annual-sporting-dog-agility-classic/
LOCATION:Canine Sports Zone\, 3036 Laura Lane\, Middleton\, WI\, 53562\, United States
ATTACH;FMTTYPE=image/jpeg:https://grcillinois.org/wp-content/uploads/2023/04/324724270_1773259409714054_6409484629449543919_n.jpg
ORGANIZER;CN="Kim Mroczenski":MAILTO:kim.mroczenski@bairdwarner.com
END:VEVENT
BEGIN:VEVENT
DTSTART;TZID=America/Chicago:20230617T080000
DTEND;TZID=America/Chicago:20230617T170000
DTSTAMP:20260420T190728
CREATED:20230422T031956Z
LAST-MODIFIED:20230422T192120Z
UID:1709-1686988800-1687021200@grcillinois.org
SUMMARY:Obedience & Rally Trial 6.17.23
DESCRIPTION:GRCI Obedience & Rally Trial \nLocation: Spring Grove\, IL (WAG) \nDate: Saturday\, June 17th \n2 obedience & 2 rally trials \n2023 GRCI-NSDTC Premium 2 per page Revised 3-27-2023 \n*Please note\, when printing premium choose double sided printing on printer settings\, followed by “short edge” for 3pg printing in correct order. \nVolunteer Sign Up: \nhttps://www.wejoinin.com/sheets/loymi
URL:https://grcillinois.org/event/obedience-rally-trial-6-17-23/
LOCATION:WAG\, 2807 US-12\,\, Spring Grove\, IL\, 60081
ORGANIZER;CN="Murray Mitchneck":MAILTO:mmitchneck@aol.com
END:VEVENT
BEGIN:VEVENT
DTSTART;TZID=America/Chicago:20230610T100000
DTEND;TZID=America/Chicago:20230610T130000
DTSTAMP:20260420T190728
CREATED:20230524T041148Z
LAST-MODIFIED:20230605T015653Z
UID:1767-1686391200-1686402000@grcillinois.org
SUMMARY:June 2023 General Membership Meeting
DESCRIPTION:June’s general membership meeting will be held on SATURDAY JUNE 10th at Foster’s Training\, in Antioch IL. \nThis meeting will include and intro to Field presentation (IN PERSON). The meeting will be conducted via zoom.
URL:https://grcillinois.org/event/june-2023-general-membership-meeting/
LOCATION:Foster’s Training Center\, 1080 W White Rd\, Antioch\, 60002\, United States
END:VEVENT
BEGIN:VEVENT
DTSTART;TZID=America/Chicago:20221105T080000
DTEND;TZID=America/Chicago:20221105T170000
DTSTAMP:20260420T190728
CREATED:20220912T003352Z
LAST-MODIFIED:20220915T164926Z
UID:1619-1667635200-1667667600@grcillinois.org
SUMMARY:Certificate of Conformation Assessment (CCA)
DESCRIPTION:2022 CCA Premium
URL:https://grcillinois.org/event/cca/
LOCATION:Northwest Obedience Club\, 110 W Woodstock Street\, Crystal Lake\, IL\, 60014
END:VEVENT
BEGIN:VEVENT
DTSTART;TZID=America/Chicago:20220911T090000
DTEND;TZID=America/Chicago:20220911T170000
DTSTAMP:20260420T190728
CREATED:20220629T152733Z
LAST-MODIFIED:20220629T152737Z
UID:1593-1662886800-1662915600@grcillinois.org
SUMMARY:GRCI Health Clinic
DESCRIPTION:https://grcillinois.org/wp-content/uploads/2022/06/2022-HEALTH-CLINIC.pdf
URL:https://grcillinois.org/event/grci-health-clinic/
LOCATION:Skycrest Animal Clinic\, 5301 Rt 83\, Long Grove\, IL\, 60047\, United States
END:VEVENT
BEGIN:VEVENT
DTSTART;TZID=America/Chicago:20220806T120000
DTEND;TZID=America/Chicago:20220806T160000
DTSTAMP:20260420T190728
CREATED:20220702T223030Z
LAST-MODIFIED:20220715T160547Z
UID:1599-1659787200-1659801600@grcillinois.org
SUMMARY:Annual Meeting\, Picnic and Awards
DESCRIPTION:Annual Meeting Flyer \nhttps://grcillinois.org/wp-content/uploads/2022/07/GRCI-2022-Picnic-1-1.pdf \n  \n 
URL:https://grcillinois.org/event/annual-meeting-picnic-and-awards/
LOCATION:Seager Park\, 1163 Plank Road\, Naperville\, IL\, 60563
END:VEVENT
BEGIN:VEVENT
DTSTART;TZID=America/Chicago:20220708T080000
DTEND;TZID=America/Chicago:20220710T170000
DTSTAMP:20260420T190728
CREATED:20220608T154134Z
LAST-MODIFIED:20220608T155732Z
UID:1577-1657267200-1657472400@grcillinois.org
SUMMARY:Ft Detroit Golden Retriever Club
DESCRIPTION:Premium \nhttps://grcillinois.org/wp-content/uploads/2022/06/FDGRC-2022.pdf \n 
URL:https://grcillinois.org/event/ft-detroit-golden-retriever-club/
LOCATION:IL
END:VEVENT
BEGIN:VEVENT
DTSTART;TZID=America/Chicago:20220618T080000
DTEND;TZID=America/Chicago:20220619T170000
DTSTAMP:20260420T190728
CREATED:20220315T213917Z
LAST-MODIFIED:20220608T224652Z
UID:1514-1655539200-1655658000@grcillinois.org
SUMMARY:Obedience and Rally Trial
DESCRIPTION:Premium \nhttps://grcillinois.org/wp-content/uploads/2022/06/2022_Premium_List.pdf \n 
URL:https://grcillinois.org/event/agility-and-rally-trial/
LOCATION:WAG\, 2807 US-12\,\, Spring Grove\, IL\, 60081
ORGANIZER;CN="Murray Mitchneck":MAILTO:mmitchneck@aol.com
END:VEVENT
BEGIN:VEVENT
DTSTART;TZID=America/Chicago:20220617T080000
DTEND;TZID=America/Chicago:20220619T170000
DTSTAMP:20260420T190728
CREATED:20220315T211804Z
LAST-MODIFIED:20220608T224858Z
UID:1511-1655452800-1655658000@grcillinois.org
SUMMARY:Little Fort Kennel Club of Waukegan
DESCRIPTION:Premium \nhttps://grcillinois.org/wp-content/uploads/2022/06/2022-Cluster.pdf
URL:https://grcillinois.org/event/little-fort-kennel-club-of-waukegan/
LOCATION:IL
END:VEVENT
BEGIN:VEVENT
DTSTART;TZID=America/Chicago:20220507T080000
DTEND;TZID=America/Chicago:20220508T170000
DTSTAMP:20260420T190728
CREATED:20220315T222932Z
LAST-MODIFIED:20220505T195026Z
UID:1519-1651910400-1652029200@grcillinois.org
SUMMARY:GRCI Hunt Test
DESCRIPTION:GRCI Hunt Test 2022 – Canceled \n 
URL:https://grcillinois.org/event/grci-hunt-test-2/
LOCATION:Des Plaines Conservation Area
ORGANIZER;CN="Wes Lehman":MAILTO:lehmanwesley92@gmail.com
END:VEVENT
BEGIN:VEVENT
DTSTART;VALUE=DATE:20220506
DTEND;VALUE=DATE:20220509
DTSTAMP:20260420T190728
CREATED:20220313T174915Z
LAST-MODIFIED:20220315T205151Z
UID:1499-1651795200-1652054399@grcillinois.org
SUMMARY:Badger Kennel Club Fast Course Ability Test
DESCRIPTION:https://grcillinois.org/wp-content/uploads/2022/03/FastCat-Premium-List-May^J-2022.pdf \nBadger Kennel Club \nFast Coursing Ability Test \nMay 6\,7 & 8\, 2022
URL:https://grcillinois.org/event/badger-kennel-club/
LOCATION:Mandt Park/Stoughton Fairgrounds\, 400 Mandt Parkway\, Stoughton\, WI\, 53589
ORGANIZER;CN="Badger Kennel Club":MAILTO:Gremlin1953@gmail.com
END:VEVENT
BEGIN:VEVENT
DTSTART;TZID=America/Chicago:20220416T080000
DTEND;TZID=America/Chicago:20220417T170000
DTSTAMP:20260420T190728
CREATED:20220315T203122Z
LAST-MODIFIED:20220315T204025Z
UID:1504-1650096000-1650214800@grcillinois.org
SUMMARY:Northstar Irish Wolfhound  Club Fast Cat
DESCRIPTION:  \nhttps://grcillinois.org/wp-content/uploads/2022/03/FAST-CAT-PREMIUM-NORTHSTAR-1.pdf \nNorthstar Irish Wolfhound Club Fast Cat \nIsanti Minnesota \nApril 16 & 17\, 2022 \n  \n 
URL:https://grcillinois.org/event/northstar-irish-wolfhound-club-fast-cat/
LOCATION:Isanti County  Fairgrounds\, 3101 MN-95\, Cambridge\, MN\, 55008
END:VEVENT
BEGIN:VEVENT
DTSTART;TZID=America/Chicago:20211008T080000
DTEND;TZID=America/Chicago:20211010T170000
DTSTAMP:20260420T190728
CREATED:20210907T203029Z
LAST-MODIFIED:20210907T203721Z
UID:1431-1633680000-1633885200@grcillinois.org
SUMMARY:GRCI Agility Trial
DESCRIPTION:https://grcillinois.org/wp-content/uploads/2021/09/GRCI-Agility-Trial-10.8.21.pdf
URL:https://grcillinois.org/event/grci-agility-trial-2/
LOCATION:Rush N Around\, 27432 US-45\, Manhatten\, IL\, 60442
ORGANIZER;CN="Kim Mroczenski":MAILTO:kim.mroczenski@bairdwarner.com
END:VEVENT
BEGIN:VEVENT
DTSTART;TZID=America/Chicago:20210912T090000
DTEND;TZID=America/Chicago:20210912T150000
DTSTAMP:20260420T190728
CREATED:20210720T211359Z
LAST-MODIFIED:20210722T133843Z
UID:1409-1631437200-1631458800@grcillinois.org
SUMMARY:Health Clinic
DESCRIPTION:Annual eye\, heart and microchip clinic. Members\, non-members and all breeds are welcome. \n  \nEye Exam – $35 per dog \nHeart Exams – $50 for auscultation and $275 for echo-cardiogram \nMicrochip – $50 per dog \nApplication:               https://grcillinois.org/wp-content/uploads/2021/07/2021-HEALTH-CLINIC.pdf
URL:https://grcillinois.org/event/health-clinic/
LOCATION:Skycrest Animal Clinic\, 5301 Rt 83\, Long Grove\, IL\, 60047\, United States
END:VEVENT
BEGIN:VEVENT
DTSTART;TZID=America/Chicago:20210808T120000
DTEND;TZID=America/Chicago:20210808T170000
DTSTAMP:20260420T190728
CREATED:20210414T200334Z
LAST-MODIFIED:20210712T175049Z
UID:1299-1628424000-1628442000@grcillinois.org
SUMMARY:Annual Meeting and Picnic
DESCRIPTION:https://grcillinois.org/wp-content/uploads/2021/07/GRCI-2021-Picnic-Final.docx  \nAnnual Picnic and Awards Presentation – August 8th at Seager Park in Naperville! \nSend in your reservation today!
URL:https://grcillinois.org/event/annual-meeting-and-picnic/
LOCATION:Seager Park\, 1163 Plank Road\, Naperville\, IL\, 60563
END:VEVENT
BEGIN:VEVENT
DTSTART;TZID=America/Chicago:20210730T080000
DTEND;TZID=America/Chicago:20210801T170000
DTSTAMP:20260420T190728
CREATED:20210629T153707Z
LAST-MODIFIED:20210629T153707Z
UID:1395-1627632000-1627837200@grcillinois.org
SUMMARY:Agility Trial
DESCRIPTION:
URL:https://grcillinois.org/event/agility-trial-2/
LOCATION:McCook\, 4750 Vernon St\, McCook\, IL\, 60525
ORGANIZER;CN="Kim Mroczenski":MAILTO:kim.mroczenski@bairdwarner.com
END:VEVENT
BEGIN:VEVENT
DTSTART;TZID=America/Chicago:20210618T080000
DTEND;TZID=America/Chicago:20210619T170000
DTSTAMP:20260420T190728
CREATED:20210412T225705Z
LAST-MODIFIED:20210427T220133Z
UID:1263-1624003200-1624122000@grcillinois.org
SUMMARY:GRCI Specialty
DESCRIPTION:GRCI Golden Retriever Specialty \nJune 18 & 19 \nGrayslake\, IL
URL:https://grcillinois.org/event/grci-specialty/
LOCATION:Lake County Fairgrounds\, 1060 E. Peterson Road\, Grayslake\, IL\, 60030
END:VEVENT
BEGIN:VEVENT
DTSTART;VALUE=DATE:20210501
DTEND;VALUE=DATE:20210503
DTSTAMP:20260420T190728
CREATED:20210413T134457Z
LAST-MODIFIED:20210414T131923Z
UID:1280-1619827200-1619999999@grcillinois.org
SUMMARY:GRCI Hunt Test - Cancelled
DESCRIPTION:The GRCI Hunt Test has been cancelled for 2021. Next year will be holding the GRCI Hunt Test on May 7 and 8\, 2022.
URL:https://grcillinois.org/event/grci-hunt-test/
LOCATION:Des Plaines Conservation Area
END:VEVENT
BEGIN:VEVENT
DTSTART;TZID=America/Chicago:20201019T190000
DTEND;TZID=America/Chicago:20201019T210000
DTSTAMP:20260420T190728
CREATED:20191014T203224Z
LAST-MODIFIED:20191014T203224Z
UID:984-1603134000-1603141200@grcillinois.org
SUMMARY:Membership Meeting
DESCRIPTION:
URL:https://grcillinois.org/event/membership-meeting-4/
LOCATION:IL
END:VEVENT
BEGIN:VEVENT
DTSTART;VALUE=DATE:20201002
DTEND;VALUE=DATE:20201005
DTSTAMP:20260420T190728
CREATED:20191006T215303Z
LAST-MODIFIED:20200812T221337Z
UID:706-1601596800-1601855999@grcillinois.org
SUMMARY:GRCI Agility Trial - Rush N Around
DESCRIPTION:Secretary: \nDavid Behrens Agility Trial Services \n 
URL:https://grcillinois.org/event/akc-agility-trial-rush-n-around/
LOCATION:Rush N Around\, 27432 US-45\, Manhatten\, IL\, 60442
END:VEVENT
BEGIN:VEVENT
DTSTART;TZID=America/Chicago:20200809T120000
DTEND;TZID=America/Chicago:20200809T170000
DTSTAMP:20260420T190728
CREATED:20191014T204302Z
LAST-MODIFIED:20200721T135006Z
UID:1004-1596974400-1596992400@grcillinois.org
SUMMARY:Membership Meeting and Annual Picnic
DESCRIPTION:Annual Picnic and Awards Presentation – August 9th at Seager Park in Naperville! \nSend in your reservation today!
URL:https://grcillinois.org/event/membership-meeting-and-annual-picnic/
LOCATION:IL
END:VEVENT
BEGIN:VEVENT
DTSTART;TZID=America/Chicago:20200724T080000
DTEND;TZID=America/Chicago:20200726T170000
DTSTAMP:20260420T190728
CREATED:20191014T204216Z
LAST-MODIFIED:20200722T220623Z
UID:1001-1595577600-1595782800@grcillinois.org
SUMMARY:GRCI Agility Trial
DESCRIPTION:Premiums can be found HERE!
URL:https://grcillinois.org/event/grci-agility-trial/
LOCATION:McCook\, 4750 Vernon St\, McCook\, IL\, 60525
END:VEVENT
BEGIN:VEVENT
DTSTART;TZID=America/Chicago:20200622T190000
DTEND;TZID=America/Chicago:20200622T210000
DTSTAMP:20260420T190728
CREATED:20191014T203108Z
LAST-MODIFIED:20200616T193624Z
UID:982-1592852400-1592859600@grcillinois.org
SUMMARY:Membership Meeting
DESCRIPTION:Our membership meeting will be conducted via a Zoom conference call. \nTopic: GRCI Membership Meeting\nTime: Jun 22\, 2020 07:00 PM Central Time (US and Canada) \nMeeting ID: 267 608 3199 \n+1 312 626 6799 US (Chicago)
URL:https://grcillinois.org/event/membership-meeting-3/
LOCATION:IL
END:VEVENT
BEGIN:VEVENT
DTSTART;TZID=America/Chicago:20200413T190000
DTEND;TZID=America/Chicago:20200413T210000
DTSTAMP:20260420T190728
CREATED:20191014T203022Z
LAST-MODIFIED:20191014T203031Z
UID:980-1586804400-1586811600@grcillinois.org
SUMMARY:Membership Meeting
DESCRIPTION:
URL:https://grcillinois.org/event/membership-meeting-2/
LOCATION:IL
END:VEVENT
BEGIN:VEVENT
DTSTART;TZID=America/Chicago:20200224T190000
DTEND;TZID=America/Chicago:20200224T210000
DTSTAMP:20260420T190728
CREATED:20191014T202955Z
LAST-MODIFIED:20200222T141711Z
UID:978-1582570800-1582578000@grcillinois.org
SUMMARY:Membership Meeting
DESCRIPTION:The membership meeting will be held over a conference call. \nPhone #:  +1 929 205 6099 \nMeeting ID: 267 608 3199 \n 
URL:https://grcillinois.org/event/membership-meeting/
LOCATION:IL
END:VEVENT
BEGIN:VEVENT
DTSTART;TZID=America/Chicago:20200101T080000
DTEND;TZID=America/Chicago:20200101T170000
DTSTAMP:20260420T190728
CREATED:20191014T203335Z
LAST-MODIFIED:20191221T221331Z
UID:988-1577865600-1577898000@grcillinois.org
SUMMARY:Membership Renewal Forms Due!
DESCRIPTION:2020 GRCI Renewal and New Member Application
URL:https://grcillinois.org/event/membership-renewal-forms-due/
LOCATION:IL
END:VEVENT
BEGIN:VEVENT
DTSTART;TZID=America/Chicago:20191202T190000
DTEND;TZID=America/Chicago:20191202T210000
DTSTAMP:20260420T190728
CREATED:20191006T220109Z
LAST-MODIFIED:20191020T221817Z
UID:711-1575313200-1575320400@grcillinois.org
SUMMARY:GRCI Holiday Party & Membership Meeting
DESCRIPTION:Join us for first a short membership meeting and then our annual holiday party. \nPizza dinner for all\,. pictures with Santa and fun games for members and dogs!
URL:https://grcillinois.org/event/grci-holiday-party-membership-meeting/
LOCATION:Biscuits & Bows\, 1945 S Plum Grove Rd\,\, Palatine\, IL\, 60067
END:VEVENT
BEGIN:VEVENT
DTSTART;TZID=America/Chicago:20190908T080000
DTEND;TZID=America/Chicago:20190908T170000
DTSTAMP:20260420T190728
CREATED:20190820T014124Z
LAST-MODIFIED:20190820T014124Z
UID:695-1567929600-1567962000@grcillinois.org
SUMMARY:
DESCRIPTION:Premiums can be found here: http://agilgold.com/downloads/GRCI%20Sporting%20Dog.pdf
URL:https://grcillinois.org/event/695/
LOCATION:Canine Sports Zone\, 3036 Laura Lane\, Middleton\, WI\, 53562\, United States
END:VEVENT
BEGIN:VEVENT
DTSTART;TZID=America/Chicago:20190907T080000
DTEND;TZID=America/Chicago:20190907T170000
DTSTAMP:20260420T190728
CREATED:20190820T013939Z
LAST-MODIFIED:20190820T013939Z
UID:690-1567843200-1567875600@grcillinois.org
SUMMARY:
DESCRIPTION:Premiums can be found here: http://agilgold.com/downloads/GRCI%20Sporting%20Dog.pdf
URL:https://grcillinois.org/event/690/
LOCATION:Canine Sports Zone\, 3036 Laura Lane\, Middleton\, WI\, 53562\, United States
END:VEVENT
BEGIN:VEVENT
DTSTART;TZID=America/Chicago:20190811T120000
DTEND;TZID=America/Chicago:20190811T170000
DTSTAMP:20260420T190728
CREATED:20190820T013626Z
LAST-MODIFIED:20190820T013626Z
UID:686-1565524800-1565542800@grcillinois.org
SUMMARY:GRCI Picnic
DESCRIPTION:
URL:https://grcillinois.org/event/grci-picnic/
LOCATION:IL\, United States
END:VEVENT
END:VCALENDAR