BEGIN:VCALENDAR
VERSION:2.0
PRODID:-//Golden Retriever Club of Illinois - ECPv6.15.20//NONSGML v1.0//EN
CALSCALE:GREGORIAN
METHOD:PUBLISH
X-WR-CALNAME:Golden Retriever Club of Illinois
X-ORIGINAL-URL:https://grcillinois.org
X-WR-CALDESC:Events for Golden Retriever Club of Illinois
REFRESH-INTERVAL;VALUE=DURATION:PT1H
X-Robots-Tag:noindex
X-PUBLISHED-TTL:PT1H
BEGIN:VTIMEZONE
TZID:America/Chicago
BEGIN:DAYLIGHT
TZOFFSETFROM:-0600
TZOFFSETTO:-0500
TZNAME:CDT
DTSTART:20250309T080000
END:DAYLIGHT
BEGIN:STANDARD
TZOFFSETFROM:-0500
TZOFFSETTO:-0600
TZNAME:CST
DTSTART:20251102T070000
END:STANDARD
BEGIN:DAYLIGHT
TZOFFSETFROM:-0600
TZOFFSETTO:-0500
TZNAME:CDT
DTSTART:20260308T080000
END:DAYLIGHT
BEGIN:STANDARD
TZOFFSETFROM:-0500
TZOFFSETTO:-0600
TZNAME:CST
DTSTART:20261101T070000
END:STANDARD
BEGIN:DAYLIGHT
TZOFFSETFROM:-0600
TZOFFSETTO:-0500
TZNAME:CDT
DTSTART:20270314T080000
END:DAYLIGHT
BEGIN:STANDARD
TZOFFSETFROM:-0500
TZOFFSETTO:-0600
TZNAME:CST
DTSTART:20271107T070000
END:STANDARD
END:VTIMEZONE
BEGIN:VEVENT
DTSTART;TZID=America/Chicago:20260102T080000
DTEND;TZID=America/Chicago:20260104T170000
DTSTAMP:20260420T221718
CREATED:20251219T030553Z
LAST-MODIFIED:20251219T030911Z
UID:2190-1767340800-1767546000@grcillinois.org
SUMMARY:January Conformation Specialties
DESCRIPTION:Join us at Tinley Park for our Winter Specialties! \n  \nFriday 1/2/26 \nWheaton KC: Vicki Seiler Cushman \nSDC: Desmond J Murphy \nGRCI: Ann Greenbank \nGRCI Sweepstakes: Kelton Hatton \nSaturday 1/3/26 \nIKC: Linda Hurlebaus \nSDC: Angela Picket \nSunday 1/4/26 \nGRCI: Neil McDevitt \nGRCI Sweepstakes: Judy Vandersteen \nNEKC: Linda Clark \n  \nSuperintendent:  BaRay \nhttps://barayevents.com/show-info \n 
URL:https://grcillinois.org/event/january-conformation-specialties/
LOCATION:Tinley Park Convention Center\, 18451 Convention Center Dr\, Tinley Park
END:VEVENT
BEGIN:VEVENT
DTSTART;TZID=America/Chicago:20260206T080000
DTEND;TZID=America/Chicago:20260208T170000
DTSTAMP:20260420T221718
CREATED:20251219T030848Z
LAST-MODIFIED:20251219T030848Z
UID:2193-1770364800-1770570000@grcillinois.org
SUMMARY:February Agility
DESCRIPTION:https://rdolson.org/premiums/prem-entry-grci-2026-02.pdf \n 
URL:https://grcillinois.org/event/february-agility/
LOCATION:Rush N Around\, 27432 US-45\, Manhatten\, IL\, 60442
END:VEVENT
BEGIN:VEVENT
DTSTART;TZID=America/Chicago:20260809T090000
DTEND;TZID=America/Chicago:20260809T170000
DTSTAMP:20260420T221718
CREATED:20260408T160835Z
LAST-MODIFIED:20260408T160835Z
UID:2218-1786266000-1786294800@grcillinois.org
SUMMARY:WC/WCX
DESCRIPTION:GRCI 2026 WC WCX PREMIUM \n 
URL:https://grcillinois.org/event/wc-wcx-2/
LOCATION:Bong Recreational Area\, Hwy 142 & 75\, Kansasville\, WI
END:VEVENT
END:VCALENDAR