BEGIN:VCALENDAR
VERSION:2.0
PRODID:-//Golden Retriever Club of Illinois - ECPv6.15.20//NONSGML v1.0//EN
CALSCALE:GREGORIAN
METHOD:PUBLISH
X-WR-CALNAME:Golden Retriever Club of Illinois
X-ORIGINAL-URL:https://grcillinois.org
X-WR-CALDESC:Events for Golden Retriever Club of Illinois
REFRESH-INTERVAL;VALUE=DURATION:PT1H
X-Robots-Tag:noindex
X-PUBLISHED-TTL:PT1H
BEGIN:VTIMEZONE
TZID:America/Chicago
BEGIN:DAYLIGHT
TZOFFSETFROM:-0600
TZOFFSETTO:-0500
TZNAME:CDT
DTSTART:20240310T080000
END:DAYLIGHT
BEGIN:STANDARD
TZOFFSETFROM:-0500
TZOFFSETTO:-0600
TZNAME:CST
DTSTART:20241103T070000
END:STANDARD
BEGIN:DAYLIGHT
TZOFFSETFROM:-0600
TZOFFSETTO:-0500
TZNAME:CDT
DTSTART:20250309T080000
END:DAYLIGHT
BEGIN:STANDARD
TZOFFSETFROM:-0500
TZOFFSETTO:-0600
TZNAME:CST
DTSTART:20251102T070000
END:STANDARD
BEGIN:DAYLIGHT
TZOFFSETFROM:-0600
TZOFFSETTO:-0500
TZNAME:CDT
DTSTART:20260308T080000
END:DAYLIGHT
BEGIN:STANDARD
TZOFFSETFROM:-0500
TZOFFSETTO:-0600
TZNAME:CST
DTSTART:20261101T070000
END:STANDARD
END:VTIMEZONE
BEGIN:VEVENT
DTSTART;TZID=America/Chicago:20251116T080000
DTEND;TZID=America/Chicago:20251116T160000
DTSTAMP:20260420T082911
CREATED:20251014T031334Z
LAST-MODIFIED:20251014T031334Z
UID:2170-1763280000-1763308800@grcillinois.org
SUMMARY:CCA
DESCRIPTION:Certificate of Conformation Assessment Event \nSunday November 16\, 2025 \nCrystal Lake\, IL \nCost $90 \nDogs must be 18 months and a day old at the time of the event. \nGRCI CCA Premium
URL:https://grcillinois.org/event/cca-2/
LOCATION:Northwest Obedience Club\, 110 W Woodstock Street\, Crystal Lake\, IL\, 60014
END:VEVENT
END:VCALENDAR