BEGIN:VCALENDAR
VERSION:2.0
PRODID:-//Golden Retriever Club of Illinois - ECPv6.15.20//NONSGML v1.0//EN
CALSCALE:GREGORIAN
METHOD:PUBLISH
X-WR-CALNAME:Golden Retriever Club of Illinois
X-ORIGINAL-URL:https://grcillinois.org
X-WR-CALDESC:Events for Golden Retriever Club of Illinois
REFRESH-INTERVAL;VALUE=DURATION:PT1H
X-Robots-Tag:noindex
X-PUBLISHED-TTL:PT1H
BEGIN:VTIMEZONE
TZID:America/Chicago
BEGIN:DAYLIGHT
TZOFFSETFROM:-0600
TZOFFSETTO:-0500
TZNAME:CDT
DTSTART:20240310T080000
END:DAYLIGHT
BEGIN:STANDARD
TZOFFSETFROM:-0500
TZOFFSETTO:-0600
TZNAME:CST
DTSTART:20241103T070000
END:STANDARD
BEGIN:DAYLIGHT
TZOFFSETFROM:-0600
TZOFFSETTO:-0500
TZNAME:CDT
DTSTART:20250309T080000
END:DAYLIGHT
BEGIN:STANDARD
TZOFFSETFROM:-0500
TZOFFSETTO:-0600
TZNAME:CST
DTSTART:20251102T070000
END:STANDARD
BEGIN:DAYLIGHT
TZOFFSETFROM:-0600
TZOFFSETTO:-0500
TZNAME:CDT
DTSTART:20260308T080000
END:DAYLIGHT
BEGIN:STANDARD
TZOFFSETFROM:-0500
TZOFFSETTO:-0600
TZNAME:CST
DTSTART:20261101T070000
END:STANDARD
END:VTIMEZONE
BEGIN:VEVENT
DTSTART;TZID=America/Chicago:20250905T080000
DTEND;TZID=America/Chicago:20250907T170000
DTSTAMP:20260420T114631
CREATED:20250122T050827Z
LAST-MODIFIED:20250716T011020Z
UID:2060-1757059200-1757264400@grcillinois.org
SUMMARY:Fall Conformation Specialties
DESCRIPTION:New Outdoor Venue! \n2 Concurrent Specialties & 2 Designated Specialties\, 7 opportunities to show! (Great American Dog Show) \nSuperintendent: MBF \nJudges: \nGRCI September Specialties \nFriday 9/5 \n\nAll Breed: Mrs Ruth Kirby\nConcurrent: Ms Barbara C. Scherer \nSweepstakes: Mr Tanner Congleton\n\nSaturday 9/6 \n\nDesignated: Mrs Lorraine W. Bisso\nSporting Dog Club: Mr Daniel J. Smythe\, Esq\nS.D.C. Sweeps: Miss Sarah Congleton\n\nSunday 9/7 \n\nDesignated: Mr Gerardo Bernard\nConcurrent: Ms Pat Vanden Heuvel\nSweepstakes: Miss Sarah Congleton\nSporting Dog Club: Mrs Debra L. Davis\nS.D.C. Sweeps: Ms Barbara Madrigano\n\nPremium
URL:https://grcillinois.org/event/fall-conformation-specialties/
LOCATION:Cantigny Park\, 15151 Winfield Rd\, Wheaton\, IL
END:VEVENT
END:VCALENDAR