BEGIN:VCALENDAR
VERSION:2.0
PRODID:-//Golden Retriever Club of Illinois - ECPv6.15.20//NONSGML v1.0//EN
CALSCALE:GREGORIAN
METHOD:PUBLISH
X-WR-CALNAME:Golden Retriever Club of Illinois
X-ORIGINAL-URL:https://grcillinois.org
X-WR-CALDESC:Events for Golden Retriever Club of Illinois
REFRESH-INTERVAL;VALUE=DURATION:PT1H
X-Robots-Tag:noindex
X-PUBLISHED-TTL:PT1H
BEGIN:VTIMEZONE
TZID:America/Chicago
BEGIN:DAYLIGHT
TZOFFSETFROM:-0600
TZOFFSETTO:-0500
TZNAME:CDT
DTSTART:20240310T080000
END:DAYLIGHT
BEGIN:STANDARD
TZOFFSETFROM:-0500
TZOFFSETTO:-0600
TZNAME:CST
DTSTART:20241103T070000
END:STANDARD
BEGIN:DAYLIGHT
TZOFFSETFROM:-0600
TZOFFSETTO:-0500
TZNAME:CDT
DTSTART:20250309T080000
END:DAYLIGHT
BEGIN:STANDARD
TZOFFSETFROM:-0500
TZOFFSETTO:-0600
TZNAME:CST
DTSTART:20251102T070000
END:STANDARD
BEGIN:DAYLIGHT
TZOFFSETFROM:-0600
TZOFFSETTO:-0500
TZNAME:CDT
DTSTART:20260308T080000
END:DAYLIGHT
BEGIN:STANDARD
TZOFFSETFROM:-0500
TZOFFSETTO:-0600
TZNAME:CST
DTSTART:20261101T070000
END:STANDARD
END:VTIMEZONE
BEGIN:VEVENT
DTSTART;TZID=America/Chicago:20250628T080000
DTEND;TZID=America/Chicago:20250629T170000
DTSTAMP:20260420T165835
CREATED:20250422T173834Z
LAST-MODIFIED:20250519T021251Z
UID:2098-1751097600-1751216400@grcillinois.org
SUMMARY:June Obedience & Rally Trial
DESCRIPTION:Join us this summer for our 2 day Obedience & Rally Trial! \nWhen: June 28 & 29 \nWhere: Cardunal Dog Obedience Training Club (Huntley IL) \nJudges: \nObedience: Ron & Lucinda Seeley \nRally: Loretta C. Lazzara \nPremium: \n2025 GRCI Premium List \nVolunteer Sign Up: \nhttps://www.wejoinin.com/sheets/danzw \n 
URL:https://grcillinois.org/event/june-obedience-rally-trial-3/
LOCATION:Cardunal Dog Obedience Training Club\, 10783 Wolf Dr\, Huntley\, IL\, 60142
END:VEVENT
END:VCALENDAR