BEGIN:VCALENDAR
VERSION:2.0
PRODID:-//Golden Retriever Club of Illinois - ECPv6.15.20//NONSGML v1.0//EN
CALSCALE:GREGORIAN
METHOD:PUBLISH
X-ORIGINAL-URL:https://grcillinois.org
X-WR-CALDESC:Events for Golden Retriever Club of Illinois
REFRESH-INTERVAL;VALUE=DURATION:PT1H
X-Robots-Tag:noindex
X-PUBLISHED-TTL:PT1H
BEGIN:VTIMEZONE
TZID:America/Chicago
BEGIN:DAYLIGHT
TZOFFSETFROM:-0600
TZOFFSETTO:-0500
TZNAME:CDT
DTSTART:20230312T080000
END:DAYLIGHT
BEGIN:STANDARD
TZOFFSETFROM:-0500
TZOFFSETTO:-0600
TZNAME:CST
DTSTART:20231105T070000
END:STANDARD
BEGIN:DAYLIGHT
TZOFFSETFROM:-0600
TZOFFSETTO:-0500
TZNAME:CDT
DTSTART:20240310T080000
END:DAYLIGHT
BEGIN:STANDARD
TZOFFSETFROM:-0500
TZOFFSETTO:-0600
TZNAME:CST
DTSTART:20241103T070000
END:STANDARD
BEGIN:DAYLIGHT
TZOFFSETFROM:-0600
TZOFFSETTO:-0500
TZNAME:CDT
DTSTART:20250309T080000
END:DAYLIGHT
BEGIN:STANDARD
TZOFFSETFROM:-0500
TZOFFSETTO:-0600
TZNAME:CST
DTSTART:20251102T070000
END:STANDARD
END:VTIMEZONE
BEGIN:VEVENT
DTSTART;TZID=America/Chicago:20240621T080000
DTEND;TZID=America/Chicago:20240623T170000
DTSTAMP:20260423T114648
CREATED:20240228T215302Z
LAST-MODIFIED:20240228T215302Z
UID:1893-1718956800-1719162000@grcillinois.org
SUMMARY:GRCI 5th Annual Sporting Dog Classic
DESCRIPTION:Join us this summer for GRCI’s 5th annual Sporting Dog Agility Classic in conjunction with Charge Against Cancer (CAC). \nJune  21-23\, 2024\, NEW LOCATION! \nEntries open Monday\, April 22\, 2024 (4/22/24) at 8am \n \nNew this year: Open to ALL BREEDS*\, \n*”other BREED entires will be entered into the trial starting on Monday\, May 13\, 2024 at 8am at the trial secretary’s address. Entires received on or after the open day of 4/22 will be numbered\, wait-listed\, and entered in order of receipt.” \n  \n“Proceeds from the GRCI Sporting Dog Agility Classic will be donated to Charge Against Cancer\, a canine cancer research fund at the University of WI School of Veterinary Medicine.” \n  \nGRCI Premium 6/21-6/23/24 \nGRCI Sporting Dog Agility Classic Merchandise \nNEW: CAC bling 2024 \n  \n 
URL:https://grcillinois.org/event/grci-5th-annual-sporting-dog-classic/
LOCATION:Roma Sports Club\, 9115 Roma Ct\, Frankfort\, IL\, 60432
END:VEVENT
BEGIN:VEVENT
DTSTART;TZID=America/Chicago:20240622T080000
DTEND;TZID=America/Chicago:20240622T170000
DTSTAMP:20260423T114648
CREATED:20240228T220219Z
LAST-MODIFIED:20240522T230823Z
UID:1905-1719043200-1719075600@grcillinois.org
SUMMARY:June 2024 Obedience Seminar-Maureen Schulz
DESCRIPTION:Golden Retriever Club of Illinois Presents: \nMaureen Schulz \nProblem Solving Your Obedience Dog \n  \nMaureen Schultz is a second generation dog trainer\, who has experience with a number of breeds and venues. While obedience work is Maureen’s “first love”\, she has also been successful in agility\, rally\, and nosework. Maureen has earned numerous OTCH as well as RACH titles on her own dogs as well as coached a number of students in achieving these titles  on their own dogs. Maureen is a gifted instructor who brings her love of the sport\, dogs\, learning\, and vast experience to each training session she conducts. This seminar is designed for you if you have any interest in the sport of obedience\, have any thoughts that obedience is “boring”\, or simply want to gain a better relationship with your canine partner in a fun\, energetic\, engaging manner. Maureen will be focusing on addressing each of the working team’s “problem areas”. and developing a plan to assist in addressing these in their personal training. \nThe Problem Solving Your Obedience Dog seminar is a chance for all levels of dogs and handlers to bring challenges they are having in their training and to get help with techniques to work through these challenges. Please come with something specific you would like help with. Teams will have several times in the ring individually to work on their specific issue(s). In order to provide individualized attention to each working spot participant\, working spots are limited to 10 for this seminar. Auditing spots will be limited to 10 as well. Please bring a crate for your dog\, chair\, pen/pencil\,paper\, and a variety of high value treats/toys. \n  \nFees: \nGRCI Members: Working: $170.00              Audit: $80.00 \nNon Members: Working: $200.00                Audit: $100.00 \n  \nAll participants complete the attached Registration and waiver form. \nContact: Liza Simon Roper at Lsroper84@gmail.com with any questions
URL:https://grcillinois.org/event/june-2024-obedience-seminar-maureen-schulz/
LOCATION:Foster’s Training Center\, 1080 W White Rd\, Antioch\, 60002\, United States
END:VEVENT
END:VCALENDAR