BEGIN:VCALENDAR
VERSION:2.0
PRODID:-//Golden Retriever Club of Illinois - ECPv6.15.20//NONSGML v1.0//EN
CALSCALE:GREGORIAN
METHOD:PUBLISH
X-ORIGINAL-URL:https://grcillinois.org
X-WR-CALDESC:Events for Golden Retriever Club of Illinois
REFRESH-INTERVAL;VALUE=DURATION:PT1H
X-Robots-Tag:noindex
X-PUBLISHED-TTL:PT1H
BEGIN:VTIMEZONE
TZID:America/Chicago
BEGIN:DAYLIGHT
TZOFFSETFROM:-0600
TZOFFSETTO:-0500
TZNAME:CDT
DTSTART:20230312T080000
END:DAYLIGHT
BEGIN:STANDARD
TZOFFSETFROM:-0500
TZOFFSETTO:-0600
TZNAME:CST
DTSTART:20231105T070000
END:STANDARD
BEGIN:DAYLIGHT
TZOFFSETFROM:-0600
TZOFFSETTO:-0500
TZNAME:CDT
DTSTART:20240310T080000
END:DAYLIGHT
BEGIN:STANDARD
TZOFFSETFROM:-0500
TZOFFSETTO:-0600
TZNAME:CST
DTSTART:20241103T070000
END:STANDARD
BEGIN:DAYLIGHT
TZOFFSETFROM:-0600
TZOFFSETTO:-0500
TZNAME:CDT
DTSTART:20250309T080000
END:DAYLIGHT
BEGIN:STANDARD
TZOFFSETFROM:-0500
TZOFFSETTO:-0600
TZNAME:CST
DTSTART:20251102T070000
END:STANDARD
END:VTIMEZONE
BEGIN:VEVENT
DTSTART;TZID=America/Chicago:20240427T083000
DTEND;TZID=America/Chicago:20240428T170000
DTSTAMP:20260423T143344
CREATED:20240222T160627Z
LAST-MODIFIED:20240222T160627Z
UID:1881-1714206600-1714323600@grcillinois.org
SUMMARY:Beginner Field Seminar
DESCRIPTION:Lets get ready for Spring and field! \nGRCI is pleased to host a 2 day beginning field seminar with Jim Wagner the last week in April. The event will be held in the Dwight IL area and is open to everyone. There is 1 working spot as of 2/22/24\, and a number of audit spots as well. This is a great seminar to audit to become familiar with the Bill Hillman approach to field work! \nThere are 2 documents needed to register for this seminar: \n1. Regristration Form \n2. Questionnaire that Jim would like participants to send in so that he can tailor the seminar to your needs. \n  \nCost \nMember working spot: $250      Audit: $75 \nNon Member working spot: $300     Audit: $125 \n  \nIf you have any questions\, please do not hesitate to contact Liza at: lsroper84@gmail.com.
URL:https://grcillinois.org/event/beginner-field-seminar/
LOCATION:Feather Prairie Farm\, 2335 E 3200 N Rd\, Dwight\, 60420\, United States
END:VEVENT
END:VCALENDAR